BEGIN:VCALENDAR
VERSION:2.0
PRODID:-//YMCA Europe - ECPv6.15.11//NONSGML v1.0//EN
CALSCALE:GREGORIAN
METHOD:PUBLISH
X-WR-CALNAME:YMCA Europe
X-ORIGINAL-URL:https://www.ymcaeurope.com
X-WR-CALDESC:Events for YMCA Europe
REFRESH-INTERVAL;VALUE=DURATION:PT1H
X-Robots-Tag:noindex
X-PUBLISHED-TTL:PT1H
BEGIN:VTIMEZONE
TZID:Europe/Brussels
BEGIN:DAYLIGHT
TZOFFSETFROM:+0100
TZOFFSETTO:+0200
TZNAME:CEST
DTSTART:20220327T010000
END:DAYLIGHT
BEGIN:STANDARD
TZOFFSETFROM:+0200
TZOFFSETTO:+0100
TZNAME:CET
DTSTART:20221030T010000
END:STANDARD
BEGIN:DAYLIGHT
TZOFFSETFROM:+0100
TZOFFSETTO:+0200
TZNAME:CEST
DTSTART:20230326T010000
END:DAYLIGHT
BEGIN:STANDARD
TZOFFSETFROM:+0200
TZOFFSETTO:+0100
TZNAME:CET
DTSTART:20231029T010000
END:STANDARD
BEGIN:DAYLIGHT
TZOFFSETFROM:+0100
TZOFFSETTO:+0200
TZNAME:CEST
DTSTART:20240331T010000
END:DAYLIGHT
BEGIN:STANDARD
TZOFFSETFROM:+0200
TZOFFSETTO:+0100
TZNAME:CET
DTSTART:20241027T010000
END:STANDARD
END:VTIMEZONE
BEGIN:VEVENT
DTSTART;VALUE=DATE:20230820
DTEND;VALUE=DATE:20230827
DTSTAMP:20260418T204744
CREATED:20230710T154430Z
LAST-MODIFIED:20230710T160852Z
UID:23368-1692489600-1693094399@www.ymcaeurope.com
SUMMARY:Youth Unify Camp 2023
DESCRIPTION:Youth Unify itself will be in Piliscsaba\, which is next to Budapest. You should plan your travel to Budapest. \nEssential Info \n\nDates – 20-26 August 2023\nLocation – Bethel Mission House\, Piliscsaba\, near Budapest\, Hungary\nAge – Aimed at 14-24 year olds (younger or older participants also welcome)\n\n\nCost: €220\nReduced Fees: \n€120 (Hungary\, Slovakia\, Czech Republic\, Poland\, Lithuania etc.)\n€50 (Ukraine\, Belarus\, Georgia\, Armenia\, Russia etc.)\nPlease contact us if you have questions about Reduced Fees. \n\nRegistration is OPEN HERE \nRegistration Info: buzaserzsebet[at]kie.hu\nGeneral Info: ymcayouthunify[at]gmail.com \n\nProgramme includes: \n\nWhole camp meetings involving talks\, Christian worship\, recreations\, personal stories\nDaily small groups where young people can build deeper friendships and discuss themes in detail\nOptional morning prayer\nLocal cultural presentations and experiences including excursions\nSports & Crafts\n\n\nVolunteering \nVolunteers required to help with small groups\, pastoral support\, arts & crafts\, sports etc.  If you are interested please contact email above. \n\nPlanning Committee \nYouth Unify 2023 Planning Committee has members from Ukraine\, Hungary\, England\, Germany\, Czech Republic and Egypt \n\nThe project is co-financed by the Governments of Czechia\, Hungary\, Poland and Slovakia through Visegrad Grants from International Visegrad Fund. The mission of the fund is to advance ideas for sustainable regional cooperation in Central Europe.
URL:https://www.ymcaeurope.com/event/youth-unify-camp-2023/
LOCATION:Bethel Mission House\, House Béthel Széchenyi street 8-12\, Piliscsaba\, Hungary
CATEGORIES:YMCA Europe events
ATTACH;FMTTYPE=image/jpeg:https://www.ymcaeurope.com/wp-content/uploads/2023/07/unify.jpg
ORGANIZER;CN="Unify":MAILTO:buzaserzsebet@kie.hu, ymcayouthunify@gmail.com
END:VEVENT
END:VCALENDAR