BEGIN:VCALENDAR
VERSION:2.0
PRODID:-//YMCA Europe - ECPv6.15.11//NONSGML v1.0//EN
CALSCALE:GREGORIAN
METHOD:PUBLISH
X-WR-CALNAME:YMCA Europe
X-ORIGINAL-URL:https://www.ymcaeurope.com
X-WR-CALDESC:Events for YMCA Europe
REFRESH-INTERVAL;VALUE=DURATION:PT1H
X-Robots-Tag:noindex
X-PUBLISHED-TTL:PT1H
BEGIN:VTIMEZONE
TZID:Europe/Brussels
BEGIN:DAYLIGHT
TZOFFSETFROM:+0100
TZOFFSETTO:+0200
TZNAME:CEST
DTSTART:20220327T010000
END:DAYLIGHT
BEGIN:STANDARD
TZOFFSETFROM:+0200
TZOFFSETTO:+0100
TZNAME:CET
DTSTART:20221030T010000
END:STANDARD
BEGIN:DAYLIGHT
TZOFFSETFROM:+0100
TZOFFSETTO:+0200
TZNAME:CEST
DTSTART:20230326T010000
END:DAYLIGHT
BEGIN:STANDARD
TZOFFSETFROM:+0200
TZOFFSETTO:+0100
TZNAME:CET
DTSTART:20231029T010000
END:STANDARD
BEGIN:DAYLIGHT
TZOFFSETFROM:+0100
TZOFFSETTO:+0200
TZNAME:CEST
DTSTART:20240331T010000
END:DAYLIGHT
BEGIN:STANDARD
TZOFFSETFROM:+0200
TZOFFSETTO:+0100
TZNAME:CET
DTSTART:20241027T010000
END:STANDARD
END:VTIMEZONE
BEGIN:VEVENT
DTSTART;VALUE=DATE:20230913
DTEND;VALUE=DATE:20230920
DTSTAMP:20260423T170201
CREATED:20230705T080037Z
LAST-MODIFIED:20230705T080037Z
UID:23244-1694563200-1695167999@www.ymcaeurope.com
SUMMARY:Peace Work Institute Reunion
DESCRIPTION:The aim of the Peace Work Institute alumni Reunion is to be a relevant concluding activity within the scheme\, where the results are evaluated and best practices shared. \nThe whole Peace Work Institute was designed as an experiential learning scheme. The knowledge\, skills and attitude gained by the participants at the residential sessions were put into practice through homework tasks and by the follow-up projects. During the session\, variety of educational tools have will be applied when delivering the training modules\, including plenary inputs and discussion\, small group discussions and exercises\, games and role plays\, personal reflections and individual work\, evaluations\, etc.
URL:https://www.ymcaeurope.com/event/peace-work-institute-reunion/
LOCATION:East Jerusalem YMCA\, YMCA street\, Beit Sahour\, Palestine
CATEGORIES:YMCA Europe events
ATTACH;FMTTYPE=image/jpeg:https://www.ymcaeurope.com/wp-content/uploads/2017/08/PWI-Session-1.jpg
END:VEVENT
END:VCALENDAR