BEGIN:VCALENDAR
VERSION:2.0
PRODID:-//YMCA Europe - ECPv6.15.11//NONSGML v1.0//EN
CALSCALE:GREGORIAN
METHOD:PUBLISH
X-WR-CALNAME:YMCA Europe
X-ORIGINAL-URL:https://www.ymcaeurope.com
X-WR-CALDESC:Events for YMCA Europe
REFRESH-INTERVAL;VALUE=DURATION:PT1H
X-Robots-Tag:noindex
X-PUBLISHED-TTL:PT1H
BEGIN:VTIMEZONE
TZID:Europe/Brussels
BEGIN:DAYLIGHT
TZOFFSETFROM:+0100
TZOFFSETTO:+0200
TZNAME:CEST
DTSTART:20220327T010000
END:DAYLIGHT
BEGIN:STANDARD
TZOFFSETFROM:+0200
TZOFFSETTO:+0100
TZNAME:CET
DTSTART:20221030T010000
END:STANDARD
BEGIN:DAYLIGHT
TZOFFSETFROM:+0100
TZOFFSETTO:+0200
TZNAME:CEST
DTSTART:20230326T010000
END:DAYLIGHT
BEGIN:STANDARD
TZOFFSETFROM:+0200
TZOFFSETTO:+0100
TZNAME:CET
DTSTART:20231029T010000
END:STANDARD
BEGIN:DAYLIGHT
TZOFFSETFROM:+0100
TZOFFSETTO:+0200
TZNAME:CEST
DTSTART:20240331T010000
END:DAYLIGHT
BEGIN:STANDARD
TZOFFSETFROM:+0200
TZOFFSETTO:+0100
TZNAME:CET
DTSTART:20241027T010000
END:STANDARD
END:VTIMEZONE
BEGIN:VEVENT
DTSTART;VALUE=DATE:20231123
DTEND;VALUE=DATE:20231127
DTSTAMP:20260422T144738
CREATED:20231121T134004Z
LAST-MODIFIED:20231121T134004Z
UID:24274-1700697600-1701043199@www.ymcaeurope.com
SUMMARY:YMCA Europe Generation Next Evaluation Workshop
DESCRIPTION:In a couple of days YMCA Europe staff and representatives of partner organisations and universities will ensemble in Yerevan (23-26 November)\, Armenia\, to evaluate the current phase of the Generation Next project. \nThis YMCA Europe large-scale and long-term initiative\, with core funding from Bread for the World Germany\, was launched back in 2020 – just before Covid and wars would lockdown then tear apart the humanity. \nNotwithstanding unprecedented force majors the project stayed resilient and agile\, impacting lives of young people in Armenia and Georgia through opening up their life skills and empowering them for civic engagement. \nThe Evaluation Workshop will be the concluding activity of the project\, analysing the lessons learnt\, planning future steps\, and celebrating the achievements reached. \nThe Workshop* will bring together representatives of YMCA Europe and its partner organizations – YMCA Georgia\, Sweden\, Ukraine\, the American University of Armenia (AUA). The AUA YMCA Scholarship holders will join the special session to be held in the premises of the University.  \nHere are a couple of Generation Next impact stories published by the American University of Armenia\, one of the project partner academic institutions.
URL:https://www.ymcaeurope.com/event/ymca-europe-generation-next-evaluation-workshop/
LOCATION:ibis Yerevan Center\, Yerevan\, Armenia
CATEGORIES:YMCA Europe events
ATTACH;FMTTYPE=image/jpeg:https://www.ymcaeurope.com/wp-content/uploads/2023/11/generation-next-workshop-2023.jpeg
END:VEVENT
END:VCALENDAR