BEGIN:VCALENDAR
VERSION:2.0
PRODID:-//YMCA Europe - ECPv6.15.11//NONSGML v1.0//EN
CALSCALE:GREGORIAN
METHOD:PUBLISH
X-WR-CALNAME:YMCA Europe
X-ORIGINAL-URL:https://www.ymcaeurope.com
X-WR-CALDESC:Events for YMCA Europe
REFRESH-INTERVAL;VALUE=DURATION:PT1H
X-Robots-Tag:noindex
X-PUBLISHED-TTL:PT1H
BEGIN:VTIMEZONE
TZID:Europe/Brussels
BEGIN:DAYLIGHT
TZOFFSETFROM:+0100
TZOFFSETTO:+0200
TZNAME:CEST
DTSTART:20230326T010000
END:DAYLIGHT
BEGIN:STANDARD
TZOFFSETFROM:+0200
TZOFFSETTO:+0100
TZNAME:CET
DTSTART:20231029T010000
END:STANDARD
BEGIN:DAYLIGHT
TZOFFSETFROM:+0100
TZOFFSETTO:+0200
TZNAME:CEST
DTSTART:20240331T010000
END:DAYLIGHT
BEGIN:STANDARD
TZOFFSETFROM:+0200
TZOFFSETTO:+0100
TZNAME:CET
DTSTART:20241027T010000
END:STANDARD
BEGIN:DAYLIGHT
TZOFFSETFROM:+0100
TZOFFSETTO:+0200
TZNAME:CEST
DTSTART:20250330T010000
END:DAYLIGHT
BEGIN:STANDARD
TZOFFSETFROM:+0200
TZOFFSETTO:+0100
TZNAME:CET
DTSTART:20251026T010000
END:STANDARD
END:VTIMEZONE
BEGIN:VEVENT
DTSTART;VALUE=DATE:20240802
DTEND;VALUE=DATE:20240811
DTSTAMP:20260418T223103
CREATED:20230914T164820Z
LAST-MODIFIED:20230914T191651Z
UID:23852-1722556800-1723334399@www.ymcaeurope.com
SUMMARY:6th European YMCA - Youth Workers Camp
DESCRIPTION:More than 80 young volunteers/leaders between 16 and 30\, from different European YMCAs will meet in the YMCA Camp Michelstadt (near Frankfurt/M)\, Germany. \nYou will share your experiences in youth work in different social backgrounds\, you will present your youth work\, you will discover diversity as a treasure for yourself and for the society\, you will be challenged by migrant volunteers and their experiences and you will develop your own personality and you will have a lot of fun. \nThe preparatory meeting will be organised between 12 and 14th of April 2024\, in Michelstadt. \nMore information will be available soon. Check out our previous the 5th European Youth Workers Camp (2022)
URL:https://www.ymcaeurope.com/event/6th-european-ymca-youth-workers-camp/
LOCATION:YMCA Camp\, Michelstadt\, Germany
CATEGORIES:National YMCA event
ATTACH;FMTTYPE=image/jpeg:https://www.ymcaeurope.com/wp-content/uploads/2022/08/youth-workers-camp-2022.jpg
END:VEVENT
END:VCALENDAR