BEGIN:VCALENDAR
VERSION:2.0
PRODID:-//YMCA Europe - ECPv6.15.11//NONSGML v1.0//EN
CALSCALE:GREGORIAN
METHOD:PUBLISH
X-WR-CALNAME:YMCA Europe
X-ORIGINAL-URL:https://www.ymcaeurope.com
X-WR-CALDESC:Events for YMCA Europe
REFRESH-INTERVAL;VALUE=DURATION:PT1H
X-Robots-Tag:noindex
X-PUBLISHED-TTL:PT1H
BEGIN:VTIMEZONE
TZID:Europe/Brussels
BEGIN:DAYLIGHT
TZOFFSETFROM:+0100
TZOFFSETTO:+0200
TZNAME:CEST
DTSTART:20240331T010000
END:DAYLIGHT
BEGIN:STANDARD
TZOFFSETFROM:+0200
TZOFFSETTO:+0100
TZNAME:CET
DTSTART:20241027T010000
END:STANDARD
BEGIN:DAYLIGHT
TZOFFSETFROM:+0100
TZOFFSETTO:+0200
TZNAME:CEST
DTSTART:20250330T010000
END:DAYLIGHT
BEGIN:STANDARD
TZOFFSETFROM:+0200
TZOFFSETTO:+0100
TZNAME:CET
DTSTART:20251026T010000
END:STANDARD
BEGIN:DAYLIGHT
TZOFFSETFROM:+0100
TZOFFSETTO:+0200
TZNAME:CEST
DTSTART:20260329T010000
END:DAYLIGHT
BEGIN:STANDARD
TZOFFSETFROM:+0200
TZOFFSETTO:+0100
TZNAME:CET
DTSTART:20261025T010000
END:STANDARD
END:VTIMEZONE
BEGIN:VEVENT
DTSTART;VALUE=DATE:20251027
DTEND;VALUE=DATE:20251103
DTSTAMP:20260417T090743
CREATED:20250709T142900Z
LAST-MODIFIED:20250709T142900Z
UID:28040-1761523200-1762127999@www.ymcaeurope.com
SUMMARY:Peacework Institute | Session I
DESCRIPTION:More information available here. 
URL:https://www.ymcaeurope.com/event/peacework-institute-session-i/
LOCATION:Dresden\, Dresden\, Germany
CATEGORIES:YMCA Europe events
ATTACH;FMTTYPE=image/jpeg:https://www.ymcaeurope.com/wp-content/uploads/2025/07/peace-work-institute-roots-2.jpg
END:VEVENT
BEGIN:VEVENT
DTSTART;VALUE=DATE:20251110
DTEND;VALUE=DATE:20251113
DTSTAMP:20260417T090743
CREATED:20250424T163355Z
LAST-MODIFIED:20250424T163355Z
UID:27714-1762732800-1762991999@www.ymcaeurope.com
SUMMARY:National General Secretaries Forum 2025
DESCRIPTION:The YMCA Europe’s National General Secretaries (NGS) Forum is a platform that brings together the national leaders of YMCA organizations across Europe. The purpose of the forum is to provide a space for national general secretaries to exchange knowledge\, discuss best practices\, and collaborate on strategic initiatives that will strengthen the YMCA movement in Europe. \nMore info about the event\, soon.
URL:https://www.ymcaeurope.com/event/national-general-secretaries-forum-2025/
LOCATION:Helsinki\, Helsinki\, Finland
CATEGORIES:YMCA Europe events
ATTACH;FMTTYPE=image/jpeg:https://www.ymcaeurope.com/wp-content/uploads/2023/10/ngs-2023-1.jpg
END:VEVENT
END:VCALENDAR